BEGIN:VCALENDAR
VERSION:2.0
PRODID:-//eventon.com NONSGML v1.0//EN
CALSCALE:GREGORIAN
METHOD:PUBLISH
BEGIN:VEVENT
UID:69eb7f44e8b6f
DTSTAMP:20260424T143340Z
DTSTART:19700101
DTEND:19700102
LOCATION:
SUMMARY:Awakening Intuition Masterclass
DESCRIPTION:Join Twin Flames\,  Mystic D. Francis and Jill M. Jackson\,  as
  they Guide you on a journey of remembering\,  an expedition of enlightenme
 nt\,  and a voyage of soulful healing\,  as we embody the empowerment of In
 tuition together! D. Francis and Jill were both born with the innate abilit
 y to sense[..]\nhttps://jillmjackson.com/events/awakening-intuition-masterc
 lass/
URL:https://jillmjackson.com/events/awakening-intuition-masterclass/
END:VEVENT
END:VCALENDAR