BEGIN:VCALENDAR
VERSION:2.0
PRODID:-//eventon.com NONSGML v1.0//EN
CALSCALE:GREGORIAN
METHOD:PUBLISH
BEGIN:VEVENT
UID:69eb7f2168285
DTSTAMP:20260424T143305Z
DTSTART:19700101
DTEND:19700102
LOCATION:
SUMMARY:Manifesting Mastery and Soul Alchemy
DESCRIPTION:Join Jill M. Jackson\,  as she Guides you on a journey of alche
 my\,  an expedition of authentic expression\,  and a voyage of quantum embo
 diment\,  as we embrace the empowerment of Soul led manifesting together! S
 he welcomes special guest teacher Mystic D. Francis as well! This 9-month l
 ive series—Manifesting Mastery &amp;[..]\nhttps://jillmjackson.com/events
 /manifesting-mastery-and-soul-alchemy/
URL:https://jillmjackson.com/events/manifesting-mastery-and-soul-alchemy/
END:VEVENT
END:VCALENDAR