BEGIN:VCALENDAR
VERSION:2.0
PRODID:-//eventon.com NONSGML v1.0//EN
CALSCALE:GREGORIAN
METHOD:PUBLISH
BEGIN:VEVENT
UID:69eb7e7e41043
DTSTAMP:20260424T143022Z
DTSTART:19700101
DTEND:19700102
LOCATION:
SUMMARY:Becoming the Bridge:                              A 9 month Path to Channeling & Mediumship Mastery
DESCRIPTION:Becoming the Bridge is a 9-month transformational journey desig
 ned to awaken and refine your innate ability to communicate with Spirit. Wh
 ether you’re drawn to connect with loved ones in the afterlife\,  higher 
 dimensional guides\,  angels\,  ascended masters\,  or your own soul’s wi
 sdom\,  this immersive program will guide you to do[..]\nhttps://jillmjacks
 on.com/events/becoming-the-bridge-a-9-month-path-to-channeling-and-mediumsh
 ip-mastery/
URL:https://jillmjackson.com/events/becoming-the-bridge-a-9-month-path-to-channeling-and-mediumship-mastery/
END:VEVENT
END:VCALENDAR