BEGIN:VCALENDAR
VERSION:2.0
PRODID:-//eventon.com NONSGML v1.0//EN
CALSCALE:GREGORIAN
METHOD:PUBLISH
BEGIN:VEVENT
UID:69eb8028229de
DTSTAMP:20260424T143728Z
DTSTART:20260625T210000Z
DTEND:20260702T120000Z
LOCATION:
SUMMARY:Pilgrimage To The Stones: A Sacred Journey through Scotland's Megalithic Stone Circles
DESCRIPTION:Are you ready for a&nbsp;Pilgrimage of Transformation&nbsp;— 
 one woven with&nbsp;Ceremony\,  Ancient Wisdom\,  and the Magic of the Land
 ? Join us on a&nbsp;sacred journey&nbsp;across Scotland\,  where we’ll&nb
 sp;awaken the soul&nbsp;through ancient stone circles\,  mystical landscape
 s\,  and powerful&nbsp;initiations that&nbsp;connect us&nbsp;to the timeles
 s spirit of the New Earth. June 25\,  2026 through July 2\, [..]\nhttps://j
 illmjackson.com/events/pilgrimage-to-the-stones-a-sacred-journey-through-sc
 otlands-megalithic-stone-circles/
URL:https://jillmjackson.com/events/pilgrimage-to-the-stones-a-sacred-journey-through-scotlands-megalithic-stone-circles/
END:VEVENT
END:VCALENDAR