BEGIN:VCALENDAR
VERSION:2.0
PRODID:-//eventon.com NONSGML v1.0//EN
CALSCALE:GREGORIAN
METHOD:PUBLISH
BEGIN:VEVENT
UID:69eb7e303d77c
DTSTAMP:20260424T142904Z
DTSTART:20260615T210000Z
DTEND:20260623T120000Z
LOCATION:
SUMMARY:Solstice Wisdom of the Heart Retreat: Pilgrimage Through Megalithic Stone Circles
DESCRIPTION:Are you ready for Pilgrimage\,  Ceremony\,  and Heart Opening W
 isdom? Join us on a captivating journey across England\,  where we’ll del
 ve into the mysteries of megalithic stone circles\,  explore ancient mystic
 al locations\,  and share in ceremonial solstice. June 15-23\,  2026\nhttps
 ://jillmjackson.com/events/solstice-wisdom-of-the-heart-retreat-pilgrimage-
 through-megalithic-stone-circles/
URL:https://jillmjackson.com/events/solstice-wisdom-of-the-heart-retreat-pilgrimage-through-megalithic-stone-circles/
END:VEVENT
END:VCALENDAR